Workbook

Sheet Data
B1: ITT Corporation | G1: Northrup Grummon | L1: Weyerhauser | Q1: VWRETD
A2: date | B2: TICKER | C2: DIVAMT | D2: FACSHR | E2: PRC | G2: TICKER | H2: DIVAMT | I2: FACSHR | J2: PRC | L2: TICKER | M2: DIVAMT | N2: FACSHR | O2: PRC
A3: 20111230 | B3: ITT | E3: 19.33 | G3: NOC | J3: 58.48 | L3: WY | O3: 18.67 | Q3: 0.003701
A4: 20120131 | B4: ITT | E4: 21.74 | G4: NOC | J4: 58.05 | L4: WY | O4: 20.02 | Q4: 0.054061
A5: 20120229 | B5: ITT | E5: 24.95 | G5: NOC | H5: 0.5 | I5: 0 | J5: 59.81 | L5: WY | M5: 0.15 | N5: 0 | O5: 20.89 | Q5: 0.041212
A6: 20120330 | B6: ITT | C6: 0.091 | D6: 0 | E6: 22.94 | G6: NOC | J6: 61.08 | L6: WY | O6: 21.92 | Q6: 0.023985
A7: 20120430 | B7: ITT | E7: 22.46 | G7: NOC | J7: 63.28 | L7: WY | O7: 20.36 | Q7: -0.006795
A8: 20120531 | B8: ITT | C8: 0.091 | D8: 0 | E8: 20.53 | G8: NOC | H8: 0.55 | I8: 0 | J8: 58.75 | L8: WY | M8: 0.15 | N8: 0 | O8: 19.91 | Q8: -0.065523
A9: 20120629 | B9: ITT | E9: 17.6 | G9: NOC | J9: 63.79 | L9: WY | O9: 22.36 | Q9: 0.038159
A10: 20120731 | B10: ITT | E10: 18.74 | G10: NOC | J10: 66.2 | L10: WY | O10: 23.35 | Q10: 0.010285
A11: 20120831 | B11: ITT | C11: 0.091 | D11: 0 | E11: 19.9 | G11: NOC | H11: 0.55 | I11: 0 | J11: 66.89 | L11: WY | M11: 0.15 | N11: 0 | O11: 24.91 | Q11: 0.026259
A12: 20120928 | B12: ITT | E12: 20.15 | G12: NOC | J12: 66.43 | L12: WY | O12: 26.14 | Q12: 0.026535
A13: 20121031 | B13: ITT | E13: 20.8 | G13: NOC | J13: 68.69 | L13: WY | O13: 27.69 | Q13: -0.014094
A14: 20121130 | B14: ITT | C14: 0.091 | D14: 0 | E14: 22.37 | G14: NOC | H14: 0.55 | I14: 0 | J14: 66.7 | L14: WY | M14: 0.17 | N14: 0 | O14: 27.56 | Q14: 0.00619
A15: 20121231 | B15: ITT | E15: 23.46 | G15: NOC | J15: 67.58 | L15: WY | O15: 27.82 | Q15: 0.012518
A16: 20130131 | B16: ITT | E16: 25.68 | G16: NOC | J16: 65.04 | L16: WY | O16: 30.12 | Q16: 0.054098
A17: 20130228 | B17: ITT | E17: 26.33 | G17: NOC | H17: 0.55 | I17: 0 | J17: 65.68 | L17: WY | M17: 0.17 | N17: 0 | O17: 29.41 | Q17: 0.008338
A18: 20130328 | B18: ITT | C18: 0.1 | D18: 0 | E18: 28.43 | G18: NOC | J18: 70.15 | L18: WY | O18: 31.38 | Q18: 0.035268
A19: 20130430 | B19: ITT | E19: 27.6 | G19: NOC | J19: 75.74 | L19: WY | O19: 30.51 | Q19: 0.014943
A20: 20130531 | B20: ITT | C20: 0.1 | D20: 0 | E20: 30.15 | G20: NOC | H20: 0.61 | I20: 0 | J20: 82.39 | L20: WY | M20: 0.2 | N20: 0 | O20: 29.82 | Q20: 0.019047
A21: 20130628 | B21: ITT | E21: 29.41 | G21: NOC | J21: 82.8 | L21: WY | O21: 28.49 | Q21: -0.015036
A22: 20130731 | B22: ITT | E22: 31.24 | G22: NOC | J22: 92.06 | L22: WY | O22: 28.4 | Q22: 0.052685
A23: 20130830 | B23: ITT | C23: 0.1 | D23: 0 | E23: 32.85 | G23: NOC | H23: 0.61 | I23: 0 | J23: 92.27 | L23: WY | M23: 0.22 | N23: 0 | O23: 27.38 | Q23: -0.025716
A24: 20130930 | B24: ITT | E24: 35.95 | G24: NOC | J24: 95.26 | L24: WY | O24: 28.63 | Q24: 0.037454
A25: 20131031 | B25: ITT | E25: 39.73 | G25: NOC | J25: 107.51 | L25: WY | M25: 0.22 | N25: 0 | O25: 30.415 | Q25: 0.039876
A26: 20131129 | B26: ITT | C26: 0.1 | D26: 0 | E26: 40.82 | G26: NOC | H26: 0.61 | I26: 0 | J26: 112.68 | L26: WY | O26: 30.13 | Q26: 0.02495
A27: 20131231 | B27: ITT | E27: 43.42 | G27: NOC | J27: 114.61 | L27: WY | O27: 31.57 | Q27: 0.02612
A28: 20140131 | B28: ITT | E28: 40.95 | G28: NOC | J28: 115.55 | L28: WY | O28: 29.88 | Q28: -0.02996
A29: 20140228 | B29: ITT | E29: 43.9 | G29: NOC | H29: 0.61 | I29: 0 | J29: 121.03 | L29: WY | M29: 0.22 | N29: 0 | O29: 29.51 | Q29: 0.046159
A30: 20140331 | B30: ITT | C30: 0.11 | D30: 0 | E30: 42.76 | G30: NOC | J30: 123.38 | L30: WY | O30: 29.35 | Q30: 0.004497
A31: 20140430 | B31: ITT | E31: 43.14 | G31: NOC | J31: 121.51 | L31: WY | O31: 29.85 | Q31: 0.001674
A32: 20140530 | B32: ITT | E32: 43.68 | G32: NOC | H32: 0.7 | I32: 0 | J32: 121.55 | L32: WY | M32: 0.22 | N32: 0 | O32: 31.42 | Q32: 0.020216
A33: 20140630 | B33: ITT | C33: 0.11 | D33: 0 | E33: 48.1 | G33: NOC | J33: 119.63 | L33: WY | O33: 33.09 | Q33: 0.027944
A34: 20140731 | B34: ITT | E34: 45.97 | G34: NOC | J34: 123.27 | L34: WY | O34: 31.32 | Q34: -0.020524
A35: 20140829 | B35: ITT | E35: 47.86 | G35: NOC | H35: 0.7 | I35: 0 | J35: 127.22 | L35: WY | M35: 0.29 | N35: 0 | O35: 33.95 | Q35: 0.040186
A36: 20140930 | B36: ITT | C36: 0.11 | D36: 0 | E36: 44.94 | G36: NOC | J36: 131.75999 | L36: WY | O36: 31.86 | Q36: -0.025119
A37: 20141031 | B37: ITT | E37: 45.06 | G37: NOC | J37: 137.96001 | L37: WY | M37: 0.29 | N37: 0 | O37: 33.86 | Q37: 0.021188
A38: 20141128 | B38: ITT | E38: 41.4 | G38: NOC | H38: 0.7 | I38: 0 | J38: 140.92999 | L38: WY | O38: 35.31 | Q38: 0.021149
A39: 20141231 | B39: ITT | C39: 0.11 | D39: 0 | E39: 40.46 | G39: NOC | J39: 147.39 | L39: WY | O39: 35.89 | Q39: -0.00362
A40: 20150130 | B40: ITT | E40: 35.81 | G40: NOC | J40: 156.95 | L40: WY | O40: 35.85 | Q40: -0.027158
...

Sheet Keys
A1: Construct the rate of return in each month:
A2: The first step is to create an adjusted lagged price to account for stock distributions (stock splits or stock dividends).
A3: Because this is an intermediate calculation, we'll keep it out of sight (columns AP, AQ, and AR).
A4: Next we compute the returns adjusted for stock distributions and cash dividends:
B6: A couple of things to note: the data file reports the months in which the stock is ex- cash dividends and stock distributions.
B7: A return can not be less than -100%. Any value greater than 30% in absolute value should be checked for errors.
AP8: Adjusted | AQ8: Adjusted | AR8: Adjusted
AP9: Lag Price | AQ9: Lag Price | AR9: Lag Price
A10: =Data!A2 -> date | B10: ITT | D10: NOC | F10: WY | I10: We already have the returns for the CRSP value-weighted incex (VWRETD). | AP10: ITT | AQ10: NOC | AR10: WY
A11: =Data!A4 -> 20120131 | B11: =(Data!E4+Data!C4-Keys!AP11)/AP11 -> 0.12467667 | D11: =(Data!J4+Data!H4-Keys!AQ11)/Keys!AQ11 -> -0.0073529412 | F11: =(Data!O4+Data!M4-Keys!AR11)/Keys!AR11 -> 0.072308516 | AP11: =Data!E3/(1+Data!D4) -> 19.33 | AQ11: =Data!J3/(1+Data!I4) -> 58.48 | AR11: =Data!O3/(1+Data!N4) -> 18.67
A12: =Data!A5 -> 20120229 | B12: =(Data!E5+Data!C5-Keys!AP12)/AP12 -> 0.14765409 | D12: =(Data!J5+Data!H5-Keys!AQ12)/Keys!AQ12 -> 0.038931955 | F12: =(Data!O5+Data!M5-Keys!AR12)/Keys!AR12 -> 0.050949051 | AP12: =Data!E4/(1+Data!D5) -> 21.74 | AQ12: =Data!J4/(1+Data!I5) -> 58.05 | AR12: =Data!O4/(1+Data!N5) -> 20.02
A13: =Data!A6 -> 20120330 | B13: =(Data!E6+Data!C6-Keys!AP13)/AP13 -> -0.076913828 | D13: =(Data!J6+Data!H6-Keys!AQ13)/Keys!AQ13 -> 0.021233907 | F13: =(Data!O6+Data!M6-Keys!AR13)/Keys!AR13 -> 0.049305888 | AP13: =Data!E5/(1+Data!D6) -> 24.95 | AQ13: =Data!J5/(1+Data!I6) -> 59.81 | AR13: =Data!O5/(1+Data!N6) -> 20.89
A14: =Data!A7 -> 20120430 | B14: =(Data!E7+Data!C7-Keys!AP14)/AP14 -> -0.02092415 | D14: =(Data!J7+Data!H7-Keys!AQ14)/Keys!AQ14 -> 0.036018337 | F14: =(Data!O7+Data!M7-Keys!AR14)/Keys!AR14 -> -0.071167883 | AP14: =Data!E6/(1+Data!D7) -> 22.94 | AQ14: =Data!J6/(1+Data!I7) -> 61.08 | AR14: =Data!O6/(1+Data!N7) -> 21.92
A15: =Data!A8 -> 20120531 | B15: =(Data!E8+Data!C8-Keys!AP15)/AP15 -> -0.081878896 | D15: =(Data!J8+Data!H8-Keys!AQ15)/Keys!AQ15 -> -0.06289507 | F15: =(Data!O8+Data!M8-Keys!AR15)/Keys!AR15 -> -0.014734774 | AP15: =Data!E7/(1+Data!D8) -> 22.46 | AQ15: =Data!J7/(1+Data!I8) -> 63.28 | AR15: =Data!O7/(1+Data!N8) -> 20.36
A16: =Data!A9 -> 20120629 | B16: =(Data!E9+Data!C9-Keys!AP16)/AP16 -> -0.14271797 | D16: =(Data!J9+Data!H9-Keys!AQ16)/Keys!AQ16 -> 0.085787234 | F16: =(Data!O9+Data!M9-Keys!AR16)/Keys!AR16 -> 0.12305374 | AP16: =Data!E8/(1+Data!D9) -> 20.53 | AQ16: =Data!J8/(1+Data!I9) -> 58.75 | AR16: =Data!O8/(1+Data!N9) -> 19.91
A17: =Data!A10 -> 20120731 | B17: =(Data!E10+Data!C10-Keys!AP17)/AP17 -> 0.064772727 | D17: =(Data!J10+Data!H10-Keys!AQ17)/Keys!AQ17 -> 0.037780216 | F17: =(Data!O10+Data!M10-Keys!AR17)/Keys!AR17 -> 0.044275492 | AP17: =Data!E9/(1+Data!D10) -> 17.6 | AQ17: =Data!J9/(1+Data!I10) -> 63.79 | AR17: =Data!O9/(1+Data!N10) -> 22.36
A18: =Data!A11 -> 20120831 | B18: =(Data!E11+Data!C11-Keys!AP18)/AP18 -> 0.066755603 | D18: =(Data!J11+Data!H11-Keys!AQ18)/Keys!AQ18 -> 0.018731118 | F18: =(Data!O11+Data!M11-Keys!AR18)/Keys!AR18 -> 0.073233405 | AP18: =Data!E10/(1+Data!D11) -> 18.74 | AQ18: =Data!J10/(1+Data!I11) -> 66.2 | AR18: =Data!O10/(1+Data!N11) -> 23.35
A19: =Data!A12 -> 20120928 | B19: =(Data!E12+Data!C12-Keys!AP19)/AP19 -> 0.012562814 | D19: =(Data!J12+Data!H12-Keys!AQ19)/Keys!AQ19 -> -0.0068769622 | F19: =(Data!O12+Data!M12-Keys!AR19)/Keys!AR19 -> 0.04937776 | AP19: =Data!E11/(1+Data!D12) -> 19.9 | AQ19: =Data!J11/(1+Data!I12) -> 66.89 | AR19: =Data!O11/(1+Data!N12) -> 24.91
A20: =Data!A13 -> 20121031 | B20: =(Data!E13+Data!C13-Keys!AP20)/AP20 -> 0.032258065 | D20: =(Data!J13+Data!H13-Keys!AQ20)/Keys!AQ20 -> 0.034020774 | F20: =(Data!O13+Data!M13-Keys!AR20)/Keys!AR20 -> 0.059296098 | AP20: =Data!E12/(1+Data!D13) -> 20.15 | AQ20: =Data!J12/(1+Data!I13) -> 66.43 | AR20: =Data!O12/(1+Data!N13) -> 26.14
A21: =Data!A14 -> 20121130 | B21: =(Data!E14+Data!C14-Keys!AP21)/AP21 -> 0.079855769 | D21: =(Data!J14+Data!H14-Keys!AQ21)/Keys!AQ21 -> -0.02096375 | F21: =(Data!O14+Data!M14-Keys!AR21)/Keys!AR21 -> 0.0014445648 | AP21: =Data!E13/(1+Data!D14) -> 20.8 | AQ21: =Data!J13/(1+Data!I14) -> 68.69 | AR21: =Data!O13/(1+Data!N14) -> 27.69
A22: =Data!A15 -> 20121231 | B22: =(Data!E15+Data!C15-Keys!AP22)/AP22 -> 0.048725972 | D22: =(Data!J15+Data!H15-Keys!AQ22)/Keys!AQ22 -> 0.013193403 | F22: =(Data!O15+Data!M15-Keys!AR22)/Keys!AR22 -> 0.0094339623 | AP22: =Data!E14/(1+Data!D15) -> 22.37 | AQ22: =Data!J14/(1+Data!I15) -> 66.7 | AR22: =Data!O14/(1+Data!N15) -> 27.56
... A88: =Data!A81 -> 20180629 | B88: =(Data!E81+Data!C81-Keys!AP88)/AP88 -> 0.015187912 | D88: =(Data!J81+Data!H81-Keys!AQ88)/Keys!AQ88 -> -0.056073308 | F88: =(Data!O81+Data!M81-Keys!AR88)/Keys!AR88 -> -0.014733458 | AP88: =Data!E80/(1+Data!D81) -> 51.62 | AQ88: =Data!J80/(1+Data!I81) -> 327.25 | AR88: =Data!O80/(1+Data!N81) -> 37.33
AQ89: =Data!J81/(1+Data!I82) -> 307.70001 | AR89: =Data!O81/(1+Data!N82) -> 36.46
A92: Once we have viable returns we can calculate the univariate statistics for each stock. First we compute the mean return -- also called the expected return.
A93: The mean return is the sample average -- we add up all 78 monthly returns and divide by 78:
B94: =SUM(B11:B88)/78 -> 0.016555628 | D94: =SUM(D11:D88)/78 -> 0.024269176 | F94: =SUM(F11:F88)/78 -> 0.012938708
A96: The Excel function average does this as well:
B97: =AVERAGE(B11:B88) -> 0.016555628 | D97: =AVERAGE(D11:D88) -> 0.024269176 | F97: =AVERAGE(F11:F88) -> 0.012938708

Sheet Std Dev
A1: To compute the monthly return standard deviations we need an intermediate column that shows each monthly return minus the mean return.
A2: Then we square these deviations | D2: Since these are squared, they all have to be positive.
D3: The average of these squared deviations is the variance. | J3: The square-root of the variance is the standard deviation.
B4: ITT | E4: NOC | H4: WY | M4: VWRETD | N4: Mean monthly return: | P4: =AVERAGE(Data!Q4:Q81) -> 0.011068885
A5: Date | B5: Ret - Rbar | C5: (ret - Rbar)^2 | E5: Ret - Rbar | F5: (ret - Rbar)^2 | H5: Ret - Rbar | I5: (ret - Rbar)^2 | M5: Ret - Rbar | N5: (ret - Rbar)^2
A6: =Data!A4 -> 20120131 | B6: =Keys!B11-Keys!$B$94 -> 0.10812104 | C6: =B6^2 -> 0.011690159 | E6: =Keys!D11-Keys!$D$94 -> -0.031622118 | F6: =E6^2 -> 0.00099995832 | H6: =Keys!F11-Keys!$F$94 -> 0.059369809 | I6: =H6^2 -> 0.0035247742 | M6: =Data!Q4-$P$4 -> 0.042992115 | N6: =M6^2 -> 0.001848322
A7: =Data!A5 -> 20120229 | B7: =Keys!B12-Keys!$B$94 -> 0.13109847 | C7: =B7^2 -> 0.017186808 | E7: =Keys!D12-Keys!$D$94 -> 0.014662779 | F7: =E7^2 -> 0.00021499708 | H7: =Keys!F12-Keys!$F$94 -> 0.038010343 | I7: =H7^2 -> 0.0014447862 | M7: =Data!Q5-$P$4 -> 0.030143115 | N7: =M7^2 -> 0.00090860741
A8: =Data!A6 -> 20120330 | B8: =Keys!B13-Keys!$B$94 -> -0.093469455 | C8: =B8^2 -> 0.0087365391 | E8: =Keys!D13-Keys!$D$94 -> -0.003035269 | F8: =E8^2 -> 9.2128582e-06 | H8: =Keys!F13-Keys!$F$94 -> 0.03636718 | I8: =H8^2 -> 0.0013225718 | M8: =Data!Q6-$P$4 -> 0.012916115 | N8: =M8^2 -> 0.00016682604
A9: =Data!A7 -> 20120430 | B9: =Keys!B14-Keys!$B$94 -> -0.037479778 | C9: =B9^2 -> 0.0014047337 | E9: =Keys!D14-Keys!$D$94 -> 0.01174916 | F9: =E9^2 -> 0.00013804277 | H9: =Keys!F14-Keys!$F$94 -> -0.084106591 | I9: =H9^2 -> 0.0070739186 | M9: =Data!Q7-$P$4 -> -0.017863885 | N9: =M9^2 -> 0.00031911837
A10: =Data!A8 -> 20120531 | B10: =Keys!B15-Keys!$B$94 -> -0.098434524 | C10: =B10^2 -> 0.0096893554 | E10: =Keys!D15-Keys!$D$94 -> -0.087164246 | F10: =E10^2 -> 0.0075976058 | H10: =Keys!F15-Keys!$F$94 -> -0.027673482 | I10: =H10^2 -> 0.0007658216 | M10: =Data!Q8-$P$4 -> -0.076591885 | N10: =M10^2 -> 0.0058663168
A11: =Data!A9 -> 20120629 | B11: =Keys!B16-Keys!$B$94 -> -0.1592736 | C11: =B11^2 -> 0.02536808 | E11: =Keys!D16-Keys!$D$94 -> 0.061518058 | F11: =E11^2 -> 0.0037844714 | H11: =Keys!F16-Keys!$F$94 -> 0.11011503 | I11: =H11^2 -> 0.012125321 | M11: =Data!Q9-$P$4 -> 0.027090115 | N11: =M11^2 -> 0.00073387435
A12: =Data!A10 -> 20120731 | B12: =Keys!B17-Keys!$B$94 -> 0.048217099 | C12: =B12^2 -> 0.0023248887 | E12: =Keys!D17-Keys!$D$94 -> 0.01351104 | F12: =E12^2 -> 0.0001825482 | H12: =Keys!F17-Keys!$F$94 -> 0.031336784 | I12: =H12^2 -> 0.00098199404 | M12: =Data!Q10-$P$4 -> -0.00078388462 | N12: =M12^2 -> 6.1447509e-07
A13: =Data!A11 -> 20120831 | B13: =Keys!B18-Keys!$B$94 -> 0.050199975 | C13: =B13^2 -> 0.0025200375 | E13: =Keys!D18-Keys!$D$94 -> -0.0055380586 | F13: =E13^2 -> 3.0670093e-05 | H13: =Keys!F18-Keys!$F$94 -> 0.060294697 | I13: =H13^2 -> 0.0036354505 | M13: =Data!Q11-$P$4 -> 0.015190115 | N13: =M13^2 -> 0.00023073961
A14: =Data!A12 -> 20120928 | B14: =Keys!B19-Keys!$B$94 -> -0.0039928137 | C14: =B14^2 -> 1.5942562e-05 | E14: =Keys!D19-Keys!$D$94 -> -0.031146139 | F14: =E14^2 -> 0.00097008195 | H14: =Keys!F19-Keys!$F$94 -> 0.036439052 | I14: =H14^2 -> 0.0013278045 | M14: =Data!Q12-$P$4 -> 0.015466115 | N14: =M14^2 -> 0.00023920073
A15: =Data!A13 -> 20121031 | B15: =Keys!B20-Keys!$B$94 -> 0.015702437 | C15: =B15^2 -> 0.00024656652 | E15: =Keys!D20-Keys!$D$94 -> 0.0097515973 | F15: =E15^2 -> 9.509365e-05 | H15: =Keys!F20-Keys!$F$94 -> 0.04635739 | I15: =H15^2 -> 0.0021490076 | M15: =Data!Q13-$P$4 -> -0.025162885 | N15: =M15^2 -> 0.00063317076
A16: =Data!A14 -> 20121130 | B16: =Keys!B21-Keys!$B$94 -> 0.063300141 | C16: =B16^2 -> 0.0040069079 | E16: =Keys!D21-Keys!$D$94 -> -0.045232927 | F16: =E16^2 -> 0.0020460176 | H16: =Keys!F21-Keys!$F$94 -> -0.011494143 | I16: =H16^2 -> 0.00013211532 | M16: =Data!Q14-$P$4 -> -0.0048788846 | N16: =M16^2 -> 2.3803515e-05
A17: =Data!A15 -> 20121231 | B17: =Keys!B22-Keys!$B$94 -> 0.032170344 | C17: =B17^2 -> 0.0010349311 | E17: =Keys!D22-Keys!$D$94 -> -0.011075773 | F17: =E17^2 -> 0.00012267275 | H17: =Keys!F22-Keys!$F$94 -> -0.0035047455 | I17: =H17^2 -> 1.2283241e-05 | M17: =Data!Q15-$P$4 -> 0.0014491154 | N17: =M17^2 -> 2.0999354e-06
... A83: =Data!A81 -> 20180629 | B83: =Keys!B88-Keys!$B$94 -> -0.0013677161 | C83: =B83^2 -> 1.8706475e-06 | E83: =Keys!D88-Keys!$D$94 -> -0.080342484 | F83: =E83^2 -> 0.0064549148 | H83: =Keys!F88-Keys!$F$94 -> -0.027672166 | I83: =H83^2 -> 0.00076574878 | M83: =Data!Q81-$P$4 -> -0.0057388846 | N83: =M83^2 -> 3.2934797e-05
B84: =SUM(E6:E83) -> 0 | E84: =SUM(H6:H83) -> 2.3245295e-16 | H84: =SUM(K6:K83) -> 0 | M84: =SUM(P6:P83) -> 0
A85: Monthly return var: | C85: =AVERAGE(C6:C83) -> 0.0053625044 | F85: =AVERAGE(F6:F83) -> 0.0019020678 | I85: =AVERAGE(I6:I83) -> 0.0030069518 | N85: =AVERAGE(N6:N83) -> 0.00078357141
A86: standard deviation: | C86: =SQRT(C85) -> 0.073229122 | F86: =SQRT(F85) -> 0.043612702 | I86: =SQRT(I85) -> 0.05483568 | N86: =SQRT(N85) -> 0.027992345
A91: Probabilty Ranges for 500 shares after 1 year:
M92: If you invest $100,000 in the value-weighted market:
A93: Value on June 29, 2018:
C94: =500*Data!E81 -> 26135 | F94: =500*Data!J81 -> 153850.01 | I94: =500*Data!O81 -> 18230 | M94: 100000
A95: 12-month E( r): | C95: =12*Keys!B94 -> 0.19866753 | F95: =12*F85 -> 0.022824813 | I95: =12*Keys!F94 -> 0.15526449 | M95: =12*P4 -> 0.13282662
A96: 12-mo std dev: | C96: =SQRT(12)*C86 -> 0.25367312 | F96: =SQRT(12)*F86 -> 0.15107883 | I96: =SQRT(12)*'Std Dev'!I86 -> 0.18995637 | M96: =SQRT(12)*N86 -> 0.096968329
A98: Expect Value: | C98: =C94*(1+C95) -> 31327.176 | F98: =F94*(1+F95) -> 157361.6 | I98: =I94*(1+I95) -> 21060.472 | M98: =M94*(1+M95) -> 113282.66
A99: 68% Range: | C99: =C94*(1+C95-C96) -> 24697.429 | D99: =C94*(1+C95+C96) -> 37956.923 | F99: =F94*(1+F95-F96) -> 134118.12 | G99: =F94*(1+F95+F96) -> 180605.08 | I99: =I94*(1+I95-I96) -> 17597.567 | J99: =I94*(1+I95+I96) -> 24523.376 | M99: =M98-M96*M94 -> 103585.83 | N99: =M98+M96*M94 -> 122979.49
A100: 95% Range: | C100: =C94*(1+C95-2*C96) -> 18067.682 | D100: =C94*(1+C95+2*C96) -> 44586.67 | F100: =F94*(1+F95-2*F96) -> 110874.64 | G100: =F94*(1+F95+2*F96) -> 203848.56 | I100: =I98-2*I96*I94 -> 14134.663 | J100: =I98+2*I94*I96 -> 27986.281 | M100: =M94*(1+M95-2*M96) -> 93888.996 | N100: =M94*(1+M95+2*M96) -> 132676.33
A101: 99% Range: | C101: =C94*(1+C95-3*C96) -> 11437.935 | D101: =C94*(1+C95+3*C96) -> 51216.417 | F101: =F94*(1+F95-3*F96) -> 87631.166 | G101: =F94*(1+F95+3*F96) -> 227092.04 | I101: =I98-3*I94*I96 -> 10671.758 | J101: =I98+3*I96*I94 -> 31449.185 | M101: =M94*(1+M95-3*M96) -> 84192.163 | N101: =M94*(1+M95+3*M96) -> 142373.16

Sheet PS2
A1: We need covariances between all assets.
A3: We already have a column that has the return minus the mean return for each asset. The (cross-)products of these are needed for the covariance.
A5: Date | C5: ITT - NOC | D5: ITT - WY | E5: ITT-VWRETD | G5: NOC - WY | H5: NOC - VWRETD | J5: WY - VWRETD
A6: =Data!A4 -> 20120131 | C6: ='Std Dev'!B6*'Std Dev'!E6 -> -0.0034190163 | D6: ='Std Dev'!B6*'Std Dev'!H6 -> 0.0064191255 | E6: ='Std Dev'!B6*'Std Dev'!M6 -> 0.0046483523 | G6: ='Std Dev'!E6*'Std Dev'!H6 -> -0.0018773991 | H6: ='Std Dev'!E6*'Std Dev'!M6 -> -0.0013595017 | J6: ='Std Dev'!H6*'Std Dev'!M6 -> 0.0025524337
A7: =Data!A5 -> 20120229 | C7: ='Std Dev'!B7*'Std Dev'!E7 -> 0.0019222678 | D7: ='Std Dev'!B7*'Std Dev'!H7 -> 0.0049830977 | E7: ='Std Dev'!B7*'Std Dev'!M7 -> 0.0039517162 | G7: ='Std Dev'!E7*'Std Dev'!H7 -> 0.00055733725 | H7: ='Std Dev'!E7*'Std Dev'!M7 -> 0.00044198183 | J7: ='Std Dev'!H7*'Std Dev'!M7 -> 0.0011457502
A8: =Data!A6 -> 20120330 | C8: ='Std Dev'!B8*'Std Dev'!E8 -> 0.00028370494 | D8: ='Std Dev'!B8*'Std Dev'!H8 -> -0.0033992205 | E8: ='Std Dev'!B8*'Std Dev'!M8 -> -0.0012072623 | G8: ='Std Dev'!E8*'Std Dev'!H8 -> -0.00011038418 | H8: ='Std Dev'!E8*'Std Dev'!M8 -> -3.9203885e-05 | J8: ='Std Dev'!H8*'Std Dev'!M8 -> 0.0004697227
A9: =Data!A7 -> 20120430 | C9: ='Std Dev'!B9*'Std Dev'!E9 -> -0.00044035591 | D9: ='Std Dev'!B9*'Std Dev'!H9 -> 0.0031522963 | E9: ='Std Dev'!B9*'Std Dev'!M9 -> 0.00066953443 | G9: ='Std Dev'!E9*'Std Dev'!H9 -> -0.00098818181 | H9: ='Std Dev'!E9*'Std Dev'!M9 -> -0.00020988564 | J9: ='Std Dev'!H9*'Std Dev'!M9 -> 0.0015024704
A10: =Data!A8 -> 20120531 | C10: ='Std Dev'!B10*'Std Dev'!E10 -> 0.008579971 | D10: ='Std Dev'!B10*'Std Dev'!H10 -> 0.002724026 | E10: ='Std Dev'!B10*'Std Dev'!M10 -> 0.0075392857 | G10: ='Std Dev'!E10*'Std Dev'!H10 -> 0.0024121382 | H10: ='Std Dev'!E10*'Std Dev'!M10 -> 0.0066760739 | J10: ='Std Dev'!H10*'Std Dev'!M10 -> 0.0021195641
A11: =Data!A9 -> 20120629 | C11: ='Std Dev'!B11*'Std Dev'!E11 -> -0.0097982026 | D11: ='Std Dev'!B11*'Std Dev'!H11 -> -0.017538418 | E11: ='Std Dev'!B11*'Std Dev'!M11 -> -0.0043147402 | G11: ='Std Dev'!E11*'Std Dev'!H11 -> 0.006774063 | H11: ='Std Dev'!E11*'Std Dev'!M11 -> 0.0016665313 | J11: ='Std Dev'!H11*'Std Dev'!M11 -> 0.002983029
A12: =Data!A10 -> 20120731 | C12: ='Std Dev'!B12*'Std Dev'!E12 -> 0.00065146316 | D12: ='Std Dev'!B12*'Std Dev'!H12 -> 0.0015109688 | E12: ='Std Dev'!B12*'Std Dev'!M12 -> -3.7796642e-05 | G12: ='Std Dev'!E12*'Std Dev'!H12 -> 0.00042339254 | H12: ='Std Dev'!E12*'Std Dev'!M12 -> -1.0591096e-05 | J12: ='Std Dev'!H12*'Std Dev'!M12 -> -2.4564423e-05
A13: =Data!A11 -> 20120831 | C13: ='Std Dev'!B13*'Std Dev'!E13 -> -0.0002780104 | D13: ='Std Dev'!B13*'Std Dev'!H13 -> 0.0030267923 | E13: ='Std Dev'!B13*'Std Dev'!M13 -> 0.00076254342 | G13: ='Std Dev'!E13*'Std Dev'!H13 -> -0.00033391556 | H13: ='Std Dev'!E13*'Std Dev'!M13 -> -8.4123749e-05 | J13: ='Std Dev'!H13*'Std Dev'!M13 -> 0.0009158834
A14: =Data!A12 -> 20120928 | C14: ='Std Dev'!B14*'Std Dev'!E14 -> 0.00012436073 | D14: ='Std Dev'!B14*'Std Dev'!H14 -> -0.00014549435 | E14: ='Std Dev'!B14*'Std Dev'!M14 -> -6.1753318e-05 | G14: ='Std Dev'!E14*'Std Dev'!H14 -> -0.0011349358 | H14: ='Std Dev'!E14*'Std Dev'!M14 -> -0.00048170977 | J14: ='Std Dev'!H14*'Std Dev'!M14 -> 0.00056357059
A15: =Data!A13 -> 20121031 | C15: ='Std Dev'!B15*'Std Dev'!E15 -> 0.00015312384 | D15: ='Std Dev'!B15*'Std Dev'!H15 -> 0.00072792399 | E15: ='Std Dev'!B15*'Std Dev'!M15 -> -0.0003951186 | G15: ='Std Dev'!E15*'Std Dev'!H15 -> 0.0004520586 | H15: ='Std Dev'!E15*'Std Dev'!M15 -> -0.00024537832 | J15: ='Std Dev'!H15*'Std Dev'!M15 -> -0.0011664857
A16: =Data!A14 -> 20121130 | C16: ='Std Dev'!B16*'Std Dev'!E16 -> -0.0028632507 | D16: ='Std Dev'!B16*'Std Dev'!H16 -> -0.00072758087 | E16: ='Std Dev'!B16*'Std Dev'!M16 -> -0.00030883409 | G16: ='Std Dev'!E16*'Std Dev'!H16 -> 0.00051991372 | H16: ='Std Dev'!E16*'Std Dev'!M16 -> 0.00022068623 | J16: ='Std Dev'!H16*'Std Dev'!M16 -> 5.6078597e-05
A17: =Data!A15 -> 20121231 | C17: ='Std Dev'!B17*'Std Dev'!E17 -> -0.00035631144 | D17: ='Std Dev'!B17*'Std Dev'!H17 -> -0.00011274887 | E17: ='Std Dev'!B17*'Std Dev'!M17 -> 4.6618541e-05 | G17: ='Std Dev'!E17*'Std Dev'!H17 -> 3.8817766e-05 | H17: ='Std Dev'!E17*'Std Dev'!M17 -> -1.6050073e-05 | J17: ='Std Dev'!H17*'Std Dev'!M17 -> -5.0787806e-06
... A83: =Data!A81 -> 20180629 | C83: ='Std Dev'!B83*'Std Dev'!E83 -> 0.00010988571 | D83: ='Std Dev'!B83*'Std Dev'!H83 -> 3.7847668e-05 | E83: ='Std Dev'!B83*'Std Dev'!M83 -> 7.8491651e-06 | G83: ='Std Dev'!E83*'Std Dev'!H83 -> 0.0022232506 | H83: ='Std Dev'!E83*'Std Dev'!M83 -> 0.00046107625 | J83: ='Std Dev'!H83*'Std Dev'!M83 -> 0.00015880737
A85: covariances: | C85: =AVERAGE(C6:C83) -> 0.00057303317 | D85: =AVERAGE(D6:D83) -> 0.0015779632 | E85: =AVERAGE(E6:E83) -> 0.0012352777 | G85: =AVERAGE(G6:G83) -> 0.00043953246 | H85: =AVERAGE(H6:H83) -> 0.00049573109 | J85: =AVERAGE(J6:J83) -> 0.0010812351
A86: correlations: | C86: ='PS2'!C85/('Std Dev'!C86*'Std Dev'!F86) -> 0.17942499 | D86: =D85/('Std Dev'!C86*'Std Dev'!I86) -> 0.39296131 | E86: =E85/('Std Dev'!C86*'Std Dev'!N86) -> 0.60261714 | G86: =G85/('Std Dev'!F86*'Std Dev'!I86) -> 0.18378697 | H86: =H85/('Std Dev'!I86*'Std Dev'!N86) -> 0.32295621 | J86: =J85/('Std Dev'!I86*'Std Dev'!N86) -> 0.70439719
A89: 2-stock portfolios:
B90: Wt | C90: E( r) | D90: variance | E90: std dev | G90: Annual | H90: Low | I90: E( r) | J90: High
A91: WY: | B91: 0.35 | C91: =B91*Keys!F97+'PS2'!B92*Keys!B97 -> 0.015289706 | D91: =B91^2*'Std Dev'!I85+'PS2'!B92^2*'Std Dev'!C85+2*'PS2'!B91*'PS2'!B92*'PS2'!D85 -> 0.0033519829 | E91: =SQRT(D91) -> 0.057896312 | G91: 68% Range: | H91: =I91-E91*SQRT(12) -> -0.017082238 | I91: =C91*12 -> 0.18347647 | J91: =I91+SQRT(12)*E91 -> 0.38403518
A92: ITT: | B92: =1-B91 -> 0.65 | G92: 95% Range | H92: =I92-2*SQRT(12)*E91 -> -0.21764095 | I92: =C91*12 -> 0.18347647 | J92: =I92+2*SQRT(12)*E91 -> 0.58459388
G93: 99% Range: | H93: =I93-3*SQRT(12)*E91 -> -0.41819965 | I93: =C91*12 -> 0.18347647 | J93: =I93+3*SQRT(12)*E91 -> 0.78515259
A95: ITT: | B95: 0.25 | C95: =B95*Keys!B94+'PS2'!B96*Keys!D94 -> 0.022340789 | D95: =B95^2*'Std Dev'!C85+'PS2'!B96^2*'Std Dev'!F85+2*'PS2'!B95*'PS2'!B96*'PS2'!C85 -> 0.0016199571 | E95: =SQRT(D95) -> 0.040248691 | G95: 68% Range: | H95: =I95-E95*SQRT(12) -> 0.12866392 | I95: =C95*12 -> 0.26808947 | J95: =I95+SQRT(12)*E95 -> 0.40751503
A96: NOC: | B96: =1-B95 -> 0.75 | G96: 95% Range | H96: =I96-2*SQRT(12)*E95 -> -0.010761637 | I96: =C95*12 -> 0.26808947 | J96: =I96+2*SQRT(12)*E95 -> 0.54694058
G97: 99% Range: | H97: =I97-3*SQRT(12)*E95 -> -0.15018719 | I97: =C95*12 -> 0.26808947 | J97: =I97+3*SQRT(12)*E95 -> 0.68636613
A100: NOC: | B100: 0.45 | C100: =B100*Keys!B94+'PS2'!B101*Keys!F94 -> 0.014566322 | D100: =B100^2*'Std Dev'!F85+'PS2'!B101^2*'Std Dev'!I85+2*'PS2'!B100*'PS2'!B101*'PS2'!G85 -> 0.0015123402 | E100: =SQRT(D100) -> 0.038888819 | G100: 68% Range: | H100: =I100-E100*SQRT(12) -> 0.040081042 | I100: =C100*12 -> 0.17479586 | J100: =I100+SQRT(12)*E100 -> 0.30951068
A101: WY: | B101: =1-B100 -> 0.55 | G101: 95% Range | H101: =I101-2*SQRT(12)*E100 -> -0.094633777 | I101: =C100*12 -> 0.17479586 | J101: =I101+2*SQRT(12)*E100 -> 0.4442255
G102: 99% Range: | H102: =I102-3*SQRT(12)*E100 -> -0.2293486 | I102: =C100*12 -> 0.17479586 | J102: =I102+3*SQRT(12)*E100 -> 0.57894032
A104: 500 shares of NOC and 1,000 shares of WY:
B105: Value | C105: Weight | D105: E( r) | E105: variance | F105: std dev | H105: Annual | I105: Low | J105: E( r) | K105: High
A106: NOC: | B106: =500*Data!J81 -> 153850.01 | C106: =B106/B108 -> 0.80841785 | D106: =C106*Keys!D94+C107*Keys!F94 -> 0.022098461 | E106: =C106^2*'Std Dev'!F85+C107^2*'Std Dev'!I85+'PS2'!C106*'PS2'!C107*2*'PS2'!G85 -> 0.0014895908 | F106: =SQRT(E106) -> 0.038595217 | H106: 68% Range: | I106: =J106-F106*SQRT(12) -> 0.13148378 | J106: =D106*12 -> 0.26518153 | K106: =J106+SQRT(12)*F106 -> 0.39887928
A107: WY: | B107: =1000*Data!O81 -> 36460 | C107: =B107/B108 -> 0.19158215 | H107: 95% Range | I107: =J107-2*SQRT(12)*F106 -> -0.0022139778 | J107: =D106*12 -> 0.26518153 | K107: =J107+2*SQRT(12)*F106 -> 0.53257704
B108: =B106+B107 -> 190310.01 | H108: 99% Range: | I108: =J108-3*SQRT(12)*F106 -> -0.13591173 | J108: =D106*12 -> 0.26518153 | K108: =J108+3*SQRT(12)*F106 -> 0.66627479

Sheet PS3
A1: We decompose systematic (i.e., non-diversifiable) and non-systematic (i.e., diversifiable) risk by regressing an asset's returns on the market returns.
A2: This is a univariate regression, and the first step is to obtain the beta.
A4: In the PS2 worksheet, we have the covariances between each of the 3 stocks and the market. | J4: And in the Std Dev workbook we have the variance of the monthly returns on VWRETD: | R4: ='Std Dev'!N85 -> 0.00078357141 | T4: E(rm): | U4: 0.085 | V4: rf: | W4: 0.035 | X4: Market risk premium: | AA4: =U4-W4 -> 0.05 | AC4: Marginal Tax Rate: | AE4: 0.23
E7: Beta | G7: Systematic Variance | J7: Diversifiable Variance | M7: % of variance that is diversifiable | Q7: E( r) Under CAPM | T7: SHOUT | U7: Share Price | V7: Eq. Mkt Cap | W7: LT Debt* | X7: Credit Spread | Y7: Risk Premium | Z7: A-T Cost of debt | AA7: Ent Value | AB7: WACC
A8: cov(ITT, VWRETD): | C8: ='PS2'!E85 -> 0.0012352777 | E8: =C8/R4 -> 1.5764711 | G8: =E8^2*R4 -> 0.0019473796 | J8: ='Std Dev'!C85-'PS3'!G8 -> 0.0034151248 | M8: =J8/(G8+J8) -> 0.63685258 | Q8: =W4+E8*AA4 -> 0.11382356 | T8: 87560000 | U8: =Data!E81 -> 52.27 | V8: =T8*U8 -> 4576761200 | W8: 1200000 | X8: 0.03 | Y8: =0.5*X8 -> 0.015 | Z8: =(1-$AE$4)*($W$4+Y8) -> 0.0385 | AA8: =V8+W8 -> 4577961200 | AB8: =(V8/AA8)*Q8+(W8/AA8)*Z8 -> 0.11380381
A10: cov(NOC, VWRETD): | C10: ='PS2'!H85 -> 0.00049573109 | E10: =C10/R4 -> 0.63265593 | G10: =E10^2*R4 -> 0.00031362721 | J10: ='Std Dev'!F85-'PS3'!G10 -> 0.0015884406 | M10: =J10/(G10+J10) -> 0.83511249 | Q10: =W4+E10*AA4 -> 0.066632796 | T10: 173620000 | U10: =Data!J81 -> 307.70001 | V10: =T10*U10 -> 5.3422876e+10 | W10: 16000000000 | X10: 0.015 | Y10: =0.5*X10 -> 0.0075 | Z10: =(1-$AE$4)*($W$4+Y10) -> 0.032725 | AA10: =V10+W10 -> 6.9422876e+10 | AB10: =(V10/AA10)*Q10+(W10/AA10)*Z10 -> 0.058818013
A12: cov(WY, VWRETD): | C12: ='PS2'!J85 -> 0.0010812351 | E12: =C12/R4 -> 1.3798808 | G12: =E12^2*R4 -> 0.0014919755 | J12: ='Std Dev'!I85-'PS3'!G12 -> 0.0015149763 | M12: =J12/(G12+J12) -> 0.5038246 | Q12: =W4+E12*AA4 -> 0.10399404 | T12: 749200000 | U12: =Data!O81 -> 36.46 | V12: =T12*U12 -> 27315832000 | W12: 8000000000 | X12: 0.028 | Y12: =0.5*X12 -> 0.014 | Z12: =(1-$AE$4)*($W$4+Y12) -> 0.03773 | AA12: =V12+W12 -> 35315832000 | AB12: =(V12/AA12)*Q12+(W12/AA12)*Z12 -> 0.088983424
W14: * Includes asbestos-related and pension liabilities for ITT Corp.
V17: `
